BEGIN:VCALENDAR
VERSION:2.0
PRODID:-//ExhibitionMatches.com//NONSGML v1.0//EN
BEGIN:VEVENT
UID=B464EC46-0DE3-25ED-9486740389C4B98E
DTSTAMP=20260425T102341Z
DTSTART;VALUE=DATE:20260425
DTEND;VALUE=DATE:20260426
SUMMARY:TOF Spartan Scuffle #1
LOCATION:Spartan RTC, 700 Harold Ave, Winter Park, FL, 32789
DESCRIPTION:View full event details: https://wrestlingtournaments.org/view.cfm?ID=107141
Contact: Steven Price stevenprice608@yahoo.com
URL;VALUE=URI:https://wrestlingtournaments.org/view.cfm?ID=107141
END:VEVENT
END:VCALENDAR