BEGIN:VCALENDAR
VERSION:2.0
PRODID:-//ExhibitionMatches.com//NONSGML v1.0//EN
BEGIN:VEVENT
UID=ED712A6A-C9F6-B802-A64616C66C2877B6
DTSTAMP=20260421T134035Z
DTSTART;VALUE=DATE:20260425
DTEND;VALUE=DATE:20260426
SUMMARY:Intense Wrestling FREESTYLE Last Chance Qualifier
LOCATION:Jasper High School, 1100 St Charles St, Jasper, IN, 47546
DESCRIPTION:View full event details: https://wrestlingtournaments.org/view.cfm?ID=107139
Contact: Alex Lee intensewrestling1@gmail.com
URL;VALUE=URI:https://wrestlingtournaments.org/view.cfm?ID=107139
END:VEVENT
END:VCALENDAR