BEGIN:VCALENDAR
VERSION:2.0
PRODID:-//ExhibitionMatches.com//NONSGML v1.0//EN
BEGIN:VEVENT
UID=ED2C834F-0170-AB4F-F2BD48CB02AFBD10
DTSTAMP=20260421T133305Z
DTSTART;VALUE=DATE:20260425
DTEND;VALUE=DATE:20260426
SUMMARY:MTTC - Freestyle Open
LOCATION:Siegel High School, 3300 Siegel Road, Murfreesboro, TN, 37129
DESCRIPTION:View full event details: https://wrestlingtournaments.org/view.cfm?ID=107137

URL;VALUE=URI:https://wrestlingtournaments.org/view.cfm?ID=107137
END:VEVENT
END:VCALENDAR