BEGIN:VCALENDAR
VERSION:2.0
PRODID:-//ExhibitionMatches.com//NONSGML v1.0//EN
BEGIN:VEVENT
UID=ED82C094-CE33-D455-1762FF495DDB1BF5
DTSTAMP=20260421T134230Z
DTSTART;VALUE=DATE:20260425
DTEND;VALUE=DATE:20260426
SUMMARY:Glenwood FRECO Tournament
LOCATION:Glenwood High School, 504 East Sharp Street, Glenwood, IA, 51534
DESCRIPTION:View full event details: https://wrestlingtournaments.org/view.cfm?ID=107136
Contact: Brent Jennings webert@glenwoodschools.org
URL;VALUE=URI:https://wrestlingtournaments.org/view.cfm?ID=107136
END:VEVENT
END:VCALENDAR