BEGIN:VCALENDAR
VERSION:2.0
PRODID:-//ExhibitionMatches.com//NONSGML v1.0//EN
BEGIN:VEVENT
UID=ED8B9943-DE15-6DEB-EE3ACDB6F403F155
DTSTAMP=20260421T134328Z
DTSTART;VALUE=DATE:20260425
DTEND;VALUE=DATE:20260426
SUMMARY:2026 NDUSA State Freestyle / Greco
LOCATION:Harold Newman Arena, 1004 7th St NE, Jamestown, ND, 58405
DESCRIPTION:View full event details: https://wrestlingtournaments.org/view.cfm?ID=107135
Contact: Riley Martin rileymartin.wrestling@gmail.com
URL;VALUE=URI:https://wrestlingtournaments.org/view.cfm?ID=107135
END:VEVENT
END:VCALENDAR