BEGIN:VCALENDAR
VERSION:2.0
PRODID:-//ExhibitionMatches.com//NONSGML v1.0//EN
BEGIN:VEVENT
UID=F0AEE348-D847-6419-E41ABB504578C651
DTSTAMP=20260421T151112Z
DTSTART;VALUE=DATE:20260425
DTEND;VALUE=DATE:20260426
SUMMARY:Panther Pounce Invitational
LOCATION:Piedra Vista High School, 5700 College Boulevard, Farmington, NM, 87402
DESCRIPTION:View full event details: https://wrestlingtournaments.org/view.cfm?ID=107134

URL;VALUE=URI:https://wrestlingtournaments.org/view.cfm?ID=107134
END:VEVENT
END:VCALENDAR