BEGIN:VCALENDAR
VERSION:2.0
PRODID:-//ExhibitionMatches.com//NONSGML v1.0//EN
BEGIN:VEVENT
UID=ED969B2B-A897-6A5B-A28F12C45ACF702B
DTSTAMP=20260421T134440Z
DTSTART;VALUE=DATE:20260425
DTEND;VALUE=DATE:20260426
SUMMARY:NWWC Super Camp 31 - Pre-State Challenge
LOCATION:Bremerton High School, 1500 13th Street, Bremerton, WA, 98337
DESCRIPTION:View full event details: https://wrestlingtournaments.org/view.cfm?ID=107133

URL;VALUE=URI:https://wrestlingtournaments.org/view.cfm?ID=107133
END:VEVENT
END:VCALENDAR