BEGIN:VCALENDAR
VERSION:2.0
PRODID:-//ExhibitionMatches.com//NONSGML v1.0//EN
BEGIN:VEVENT
UID=ED518701-BE01-3A4C-0C7639D562EC0E4E
DTSTAMP=20260421T133707Z
DTSTART;VALUE=DATE:20260425
DTEND;VALUE=DATE:20260426
SUMMARY:Clash Royal MS
LOCATION:Vanguard Academy Beethoven, 2215 South Veterans Boulevard, Edinburg, TX, 78539
DESCRIPTION:View full event details: https://wrestlingtournaments.org/view.cfm?ID=107132

URL;VALUE=URI:https://wrestlingtournaments.org/view.cfm?ID=107132
END:VEVENT
END:VCALENDAR