BEGIN:VCALENDAR
VERSION:2.0
PRODID:-//ExhibitionMatches.com//NONSGML v1.0//EN
BEGIN:VEVENT
UID=F0F39C23-EA3E-6E15-CFEB9E6EA13A8DFF
DTSTAMP=20260421T151843Z
DTSTART;VALUE=DATE:20260425
DTEND;VALUE=DATE:20260426
SUMMARY:2026 Paso Robles Middle School Invite
LOCATION:Paso Robles, 801 Niblick rd, Paso Robles, CA, 93446
DESCRIPTION:View full event details: https://wrestlingtournaments.org/view.cfm?ID=107131

URL;VALUE=URI:https://wrestlingtournaments.org/view.cfm?ID=107131
END:VEVENT
END:VCALENDAR