BEGIN:VCALENDAR
VERSION:2.0
PRODID:-//ExhibitionMatches.com//NONSGML v1.0//EN
BEGIN:VEVENT
UID=00AC14EA-E15C-B4A1-12616068E7292884
DTSTAMP=20260421T223817Z
DTSTART;VALUE=DATE:20270515
DTEND;VALUE=DATE:20270516
SUMMARY:WrestlingTournaments.com Presents: May WAR Zone @ The Fieldhouse!
LOCATION:The Fieldhouse, 140 Legrand Ave, Northvale, NJ
DESCRIPTION:View full event details: https://wrestlingtournaments.org/view.cfm?ID=107129

URL;VALUE=URI:https://wrestlingtournaments.org/view.cfm?ID=107129
END:VEVENT
END:VCALENDAR