BEGIN:VCALENDAR
VERSION:2.0
PRODID:-//ExhibitionMatches.com//NONSGML v1.0//EN
BEGIN:VEVENT
UID=006CAC8A-C857-AC4E-B05224661011AB00
DTSTAMP=20260421T223122Z
DTSTART;VALUE=DATE:20270418
DTEND;VALUE=DATE:20270419
SUMMARY:Grappling Industries LONDON
LOCATION:UEL SportsDock, University of East London, 4-6 University, 4-6 University Way, London, GBR, E16 2RD
DESCRIPTION:View full event details: https://wrestlingtournaments.org/view.cfm?ID=107128
Contact: grapplingindustries@gmail.com
URL;VALUE=URI:https://wrestlingtournaments.org/view.cfm?ID=107128
END:VEVENT
END:VCALENDAR