BEGIN:VCALENDAR
VERSION:2.0
PRODID:-//ExhibitionMatches.com//NONSGML v1.0//EN
BEGIN:VEVENT
UID=00568AC4-CF28-6590-0C7DE9FAA63C4F39
DTSTAMP=20260421T222857Z
DTSTART;VALUE=DATE:20270328
DTEND;VALUE=DATE:20270329
SUMMARY:WrestlingTournaments.com Presents: Spring WAR Zone @ The Fieldhouse!
LOCATION:The Fieldhouse, 140 Legrand Ave, Northvale, NJ
DESCRIPTION:View full event details: https://wrestlingtournaments.org/view.cfm?ID=107126

URL;VALUE=URI:https://wrestlingtournaments.org/view.cfm?ID=107126
END:VEVENT
END:VCALENDAR