BEGIN:VCALENDAR
VERSION:2.0
PRODID:-//ExhibitionMatches.com//NONSGML v1.0//EN
BEGIN:VEVENT
UID=13EF71F8-AC46-34FF-99732FA0F8E6314F
DTSTAMP=20260422T073656Z
DTSTART;VALUE=DATE:20260709
DTEND;VALUE=DATE:20260712
SUMMARY:Beat the Heat Camp
LOCATION:Rosewood High School, 900 Rosewood Road, Goldsboro, NC, 27530
DESCRIPTION:View full event details: https://wrestlingtournaments.org/view.cfm?ID=107083

URL;VALUE=URI:https://wrestlingtournaments.org/view.cfm?ID=107083
END:VEVENT
END:VCALENDAR