BEGIN:VCALENDAR
VERSION:2.0
PRODID:-//ExhibitionMatches.com//NONSGML v1.0//EN
BEGIN:VEVENT
UID=13CDA97A-F6D4-33A1-0E258C8FC60C52A6
DTSTAMP=20260422T073314Z
DTSTART;VALUE=DATE:20260708
DTEND;VALUE=DATE:20260709
SUMMARY:Lynn Shore Showdown
LOCATION:Nahant Beach, 4 Nahant Road, Nahant, MA
DESCRIPTION:View full event details: https://wrestlingtournaments.org/view.cfm?ID=107082
Contact: Brett Poirier Brett@BTSNE.org
URL;VALUE=URI:https://wrestlingtournaments.org/view.cfm?ID=107082
END:VEVENT
END:VCALENDAR