BEGIN:VCALENDAR
VERSION:2.0
PRODID:-//ExhibitionMatches.com//NONSGML v1.0//EN
BEGIN:VEVENT
UID=179795A6-F000-9C3A-FB6CF0B799FBA906
DTSTAMP=20260422T091911Z
DTSTART;VALUE=DATE:20260706
DTEND;VALUE=DATE:20260711
SUMMARY:Pin Master Wrestling Day-Camp
LOCATION:Nebraska Wesleyan University, 5000 Saint Paul Avenue, Lincoln, NE, 68504
DESCRIPTION:View full event details: https://wrestlingtournaments.org/view.cfm?ID=107079

URL;VALUE=URI:https://wrestlingtournaments.org/view.cfm?ID=107079
END:VEVENT
END:VCALENDAR