BEGIN:VCALENDAR
VERSION:2.0
PRODID:-//ExhibitionMatches.com//NONSGML v1.0//EN
BEGIN:VEVENT
UID=13FD1633-A81A-B518-FAFEA56F7626F691
DTSTAMP=20260422T073825Z
DTSTART;VALUE=DATE:20260706
DTEND;VALUE=DATE:20260711
SUMMARY:2026 Team Indiana Fargo Nationals Registration
LOCATION:5715 Churchman Ave, Suite L, Indianapolis, IN, 46203
DESCRIPTION:View full event details: https://wrestlingtournaments.org/view.cfm?ID=107078
Contact: Jennifer Ratliff office@iswa.com
URL;VALUE=URI:https://wrestlingtournaments.org/view.cfm?ID=107078
END:VEVENT
END:VCALENDAR