BEGIN:VCALENDAR
VERSION:2.0
PRODID:-//ExhibitionMatches.com//NONSGML v1.0//EN
BEGIN:VEVENT
UID=13D00C61-92E8-CBD8-2F5774CA9B1801EF
DTSTAMP=20260422T073330Z
DTSTART;VALUE=DATE:20260705
DTEND;VALUE=DATE:20260708
SUMMARY:Fargo Camp - PA Boys
LOCATION:Penn West Clarion, 840 Wood Street, Clarion, PA, 16214
DESCRIPTION:View full event details: https://wrestlingtournaments.org/view.cfm?ID=107077
Contact: Joe Stabilito Sr. joe.stab@gmail.com
URL;VALUE=URI:https://wrestlingtournaments.org/view.cfm?ID=107077
END:VEVENT
END:VCALENDAR