BEGIN:VCALENDAR
VERSION:2.0
PRODID:-//ExhibitionMatches.com//NONSGML v1.0//EN
BEGIN:VEVENT
UID=13C4EB17-046B-B609-BCF86545213BDFC7
DTSTAMP=20260422T073217Z
DTSTART;VALUE=DATE:20260629
DTEND;VALUE=DATE:20260705
SUMMARY:2026 Summer MFS/GR Development Camp
LOCATION:U.S. Olympic &amp; Paralympic Training Center, One Olympic Plaza, Colorado Springs, CO, 80918
DESCRIPTION:View full event details: https://wrestlingtournaments.org/view.cfm?ID=107075
Contact: Cody Bickley cbickley@usawrestling.org
URL;VALUE=URI:https://wrestlingtournaments.org/view.cfm?ID=107075
END:VEVENT
END:VCALENDAR