BEGIN:VCALENDAR
VERSION:2.0
PRODID:-//ExhibitionMatches.com//NONSGML v1.0//EN
BEGIN:VEVENT
UID=13E3BDA4-0C5E-72F0-AD6FA3ACDEBDEF78
DTSTAMP=20260422T073539Z
DTSTART;VALUE=DATE:20260627
DTEND;VALUE=DATE:20260629
SUMMARY:2026 Body Armor State Games-Folkstyle
LOCATION:Kernersville Recreation &amp; Event Center, 1020 Shields Road, Kernersville, NC, 27284
DESCRIPTION:View full event details: https://wrestlingtournaments.org/view.cfm?ID=107074

URL;VALUE=URI:https://wrestlingtournaments.org/view.cfm?ID=107074
END:VEVENT
END:VCALENDAR