BEGIN:VCALENDAR
VERSION:2.0
PRODID:-//ExhibitionMatches.com//NONSGML v1.0//EN
BEGIN:VEVENT
UID=13C250B2-CF95-5464-2A1ED418451ED75E
DTSTAMP=20260422T073200Z
DTSTART;VALUE=DATE:20260627
DTEND;VALUE=DATE:20260629
SUMMARY:2026 Body Armor State Games-Belt
LOCATION:Kernersville Recreation &amp; Event Center, 1020 Shields Road, Kernersville, NC, 27284
DESCRIPTION:View full event details: https://wrestlingtournaments.org/view.cfm?ID=107073

URL;VALUE=URI:https://wrestlingtournaments.org/view.cfm?ID=107073
END:VEVENT
END:VCALENDAR