BEGIN:VCALENDAR
VERSION:2.0
PRODID:-//ExhibitionMatches.com//NONSGML v1.0//EN
BEGIN:VEVENT
UID=13F52EF9-FDE7-B5E0-8A7935248E6B5A84
DTSTAMP=20260422T073733Z
DTSTART;VALUE=DATE:20260627
DTEND;VALUE=DATE:20260629
SUMMARY:2026 Body Armor State Games-Greco
LOCATION:Kernersville Recreation &amp; Event Center, 1020 Shields Road, Kernersville, NC, 27284
DESCRIPTION:View full event details: https://wrestlingtournaments.org/view.cfm?ID=107072

URL;VALUE=URI:https://wrestlingtournaments.org/view.cfm?ID=107072
END:VEVENT
END:VCALENDAR