BEGIN:VCALENDAR
VERSION:2.0
PRODID:-//ExhibitionMatches.com//NONSGML v1.0//EN
BEGIN:VEVENT
UID=140F61A7-D0EB-D98F-21B44A1614D4477F
DTSTAMP=20260422T074025Z
DTSTART;VALUE=DATE:20260627
DTEND;VALUE=DATE:20260629
SUMMARY:2026 Body Armor State Games-Freestyle
LOCATION:Kernersville Recreation &amp; Event Center, 1020 Shields Road, Kernersville, NC, 27284
DESCRIPTION:View full event details: https://wrestlingtournaments.org/view.cfm?ID=107071

URL;VALUE=URI:https://wrestlingtournaments.org/view.cfm?ID=107071
END:VEVENT
END:VCALENDAR