BEGIN:VCALENDAR
VERSION:2.0
PRODID:-//ExhibitionMatches.com//NONSGML v1.0//EN
BEGIN:VEVENT
UID=1408FE7E-EC17-5D23-0F80B710E3E9237A
DTSTAMP=20260422T073943Z
DTSTART;VALUE=DATE:20260626
DTEND;VALUE=DATE:20260627
SUMMARY:SUMMER SCRAMBLE
LOCATION:450 Ellis Lane, West Chester, PA, 19380
DESCRIPTION:View full event details: https://wrestlingtournaments.org/view.cfm?ID=107069

URL;VALUE=URI:https://wrestlingtournaments.org/view.cfm?ID=107069
END:VEVENT
END:VCALENDAR