BEGIN:VCALENDAR
VERSION:2.0
PRODID:-//ExhibitionMatches.com//NONSGML v1.0//EN
BEGIN:VEVENT
UID=13C0EF0D-CAF7-923B-34550077E6D9227B
DTSTAMP=20260422T073151Z
DTSTART;VALUE=DATE:20260626
DTEND;VALUE=DATE:20260629
SUMMARY:2026 Revolution Wrestling Festival
LOCATION:Flanagan Campus - Community College of Rhode Island (CCRI), 1762 Old Louisquisset Pike, Lincoln, RI
DESCRIPTION:View full event details: https://wrestlingtournaments.org/view.cfm?ID=107068
Contact: Jay Jones coachjri13@gmail.com
URL;VALUE=URI:https://wrestlingtournaments.org/view.cfm?ID=107068
END:VEVENT
END:VCALENDAR