BEGIN:VCALENDAR
VERSION:2.0
PRODID:-//ExhibitionMatches.com//NONSGML v1.0//EN
BEGIN:VEVENT
UID=13D7F7EC-E055-E043-7384FC2A9F513A11
DTSTAMP=20260422T073422Z
DTSTART;VALUE=DATE:20260622
DTEND;VALUE=DATE:20260627
SUMMARY:GrindHouse Wrestling Camp
LOCATION:Clovis East High School, 2940 Leonard Avenue, Clovis, CA, 93619
DESCRIPTION:View full event details: https://wrestlingtournaments.org/view.cfm?ID=107067

URL;VALUE=URI:https://wrestlingtournaments.org/view.cfm?ID=107067
END:VEVENT
END:VCALENDAR