BEGIN:VCALENDAR
VERSION:2.0
PRODID:-//ExhibitionMatches.com//NONSGML v1.0//EN
BEGIN:VEVENT
UID=13AD72AB-DF3E-233C-AD315678DE2A870C
DTSTAMP=20260422T072943Z
DTSTART;VALUE=DATE:20260621
DTEND;VALUE=DATE:20260627
SUMMARY:U17 World Team &amp; International Training Camp
LOCATION:Doane University, 1014 Boswell Ave., Crete, NE, 68333
DESCRIPTION:View full event details: https://wrestlingtournaments.org/view.cfm?ID=107066
Contact: Jason Christenson jason.christenson@doane.edu
URL;VALUE=URI:https://wrestlingtournaments.org/view.cfm?ID=107066
END:VEVENT
END:VCALENDAR