BEGIN:VCALENDAR
VERSION:2.0
PRODID:-//ExhibitionMatches.com//NONSGML v1.0//EN
BEGIN:VEVENT
UID=13B9F52A-A42C-8C43-C0D686A145766A85
DTSTAMP=20260422T073105Z
DTSTART;VALUE=DATE:20260620
DTEND;VALUE=DATE:20260621
SUMMARY:Medical Lake Founders Day
LOCATION:Medical Lake Middle School, 1010 E Lake St., Medical Lake, WA, 99022
DESCRIPTION:View full event details: https://wrestlingtournaments.org/view.cfm?ID=107065
Contact: Garrett Raulston graulston@mlsd.org
URL;VALUE=URI:https://wrestlingtournaments.org/view.cfm?ID=107065
END:VEVENT
END:VCALENDAR