BEGIN:VCALENDAR
VERSION:2.0
PRODID:-//ExhibitionMatches.com//NONSGML v1.0//EN
BEGIN:VEVENT
UID=13E22480-E12F-675D-1673EBCFEDA8A9C2
DTSTAMP=20260422T073529Z
DTSTART;VALUE=DATE:20260620
DTEND;VALUE=DATE:20260621
SUMMARY:Summer Battle 2026
LOCATION:John Battle High School, 21264 Battle Hill Drive, Bristol, VA, 24202
DESCRIPTION:View full event details: https://wrestlingtournaments.org/view.cfm?ID=107063

URL;VALUE=URI:https://wrestlingtournaments.org/view.cfm?ID=107063
END:VEVENT
END:VCALENDAR