BEGIN:VCALENDAR
VERSION:2.0
PRODID:-//ExhibitionMatches.com//NONSGML v1.0//EN
BEGIN:VEVENT
UID=13C7F4D7-A814-05E7-73365196289722F2
DTSTAMP=20260422T073237Z
DTSTART;VALUE=DATE:20260620
DTEND;VALUE=DATE:20260621
SUMMARY:War Dog's 2026 Kennel Klassic
LOCATION:Natick High School, Natick, MA, 01760
DESCRIPTION:View full event details: https://wrestlingtournaments.org/view.cfm?ID=107061
Contact: War Dog Wrestling Club wardogwrestlingclub@gmail.com
URL;VALUE=URI:https://wrestlingtournaments.org/view.cfm?ID=107061
END:VEVENT
END:VCALENDAR