BEGIN:VCALENDAR
VERSION:2.0
PRODID:-//ExhibitionMatches.com//NONSGML v1.0//EN
BEGIN:VEVENT
UID=13C95F80-0C6B-0D04-652F7705E9B86CB1
DTSTAMP=20260422T073246Z
DTSTART;VALUE=DATE:20260620
DTEND;VALUE=DATE:20260621
SUMMARY:Florida XII NoGi Youth
LOCATION:Jenkins Arena, 701 W Lime St, Lakeland, FL, 33815
DESCRIPTION:View full event details: https://wrestlingtournaments.org/view.cfm?ID=107060

URL;VALUE=URI:https://wrestlingtournaments.org/view.cfm?ID=107060
END:VEVENT
END:VCALENDAR