BEGIN:VCALENDAR
VERSION:2.0
PRODID:-//ExhibitionMatches.com//NONSGML v1.0//EN
BEGIN:VEVENT
UID=13D5677B-ECF9-913D-DDF08BC8D6851390
DTSTAMP=20260422T073405Z
DTSTART;VALUE=DATE:20260620
DTEND;VALUE=DATE:20260621
SUMMARY:Florida XII NoGi Adults and Masters
LOCATION:Jenkins Arena, 701 W Lime St, Lakeland, FL, 33815
DESCRIPTION:View full event details: https://wrestlingtournaments.org/view.cfm?ID=107059

URL;VALUE=URI:https://wrestlingtournaments.org/view.cfm?ID=107059
END:VEVENT
END:VCALENDAR