BEGIN:VCALENDAR
VERSION:2.0
PRODID:-//ExhibitionMatches.com//NONSGML v1.0//EN
BEGIN:VEVENT
UID=147B4B55-D95A-132E-386D6AFF04B0B5D9
DTSTAMP=20260422T075212Z
DTSTART;VALUE=DATE:20260620
DTEND;VALUE=DATE:20260621
SUMMARY:Florida XII Gi Youth
LOCATION:Jenkins Arena, 701 W Lime St, Lakeland, FL, 33815
DESCRIPTION:View full event details: https://wrestlingtournaments.org/view.cfm?ID=107058

URL;VALUE=URI:https://wrestlingtournaments.org/view.cfm?ID=107058
END:VEVENT
END:VCALENDAR