BEGIN:VCALENDAR
VERSION:2.0
PRODID:-//ExhibitionMatches.com//NONSGML v1.0//EN
BEGIN:VEVENT
UID=140CDE51-FD25-B6E3-F9B73BA957DD306A
DTSTAMP=20260422T074009Z
DTSTART;VALUE=DATE:20260620
DTEND;VALUE=DATE:20260621
SUMMARY:Florida XII Gi Adults and Masters
LOCATION:Jenkins Arena, 701 W Lime St, Lakeland, FL, 33815
DESCRIPTION:View full event details: https://wrestlingtournaments.org/view.cfm?ID=107057

URL;VALUE=URI:https://wrestlingtournaments.org/view.cfm?ID=107057
END:VEVENT
END:VCALENDAR