BEGIN:VCALENDAR
VERSION:2.0
PRODID:-//ExhibitionMatches.com//NONSGML v1.0//EN
BEGIN:VEVENT
UID=13DD89B5-EC71-2E17-A25619B83FBE0E3A
DTSTAMP=20260422T073458Z
DTSTART;VALUE=DATE:20260606
DTEND;VALUE=DATE:20260607
SUMMARY:1st Annual Farina Memorial Wrestling Tournament
LOCATION:Phillipsburg High School, 1 Stateliner Boulevard, Phillipsburg, NJ
DESCRIPTION:View full event details: https://wrestlingtournaments.org/view.cfm?ID=107049
Contact: Dan Farina 610-844-5296 farinamemorialfoundation@gmail.com
URL;VALUE=URI:https://wrestlingtournaments.org/view.cfm?ID=107049
END:VEVENT
END:VCALENDAR