BEGIN:VCALENDAR
VERSION:2.0
PRODID:-//ExhibitionMatches.com//NONSGML v1.0//EN
BEGIN:VEVENT
UID=7D0A020D-B000-9E45-55A75332649CAB25
DTSTAMP=20260424T083550Z
DTSTART;VALUE=DATE:20260606
DTEND;VALUE=DATE:20260607
SUMMARY:5th Annual Hillsborough Open
LOCATION:Hillsborough High School, Hillsborough Township, NJ
DESCRIPTION:View full event details: https://wrestlingtournaments.org/view.cfm?ID=107048
Contact: Michael Kester 908-642-0355 hillsboroughyouthwrestling@gmail.com
URL;VALUE=URI:https://wrestlingtournaments.org/view.cfm?ID=107048
END:VEVENT
END:VCALENDAR