BEGIN:VCALENDAR
VERSION:2.0
PRODID:-//ExhibitionMatches.com//NONSGML v1.0//EN
BEGIN:VEVENT
UID=ED72CF33-0082-7A4A-27B4BDEC0FD66E91
DTSTAMP=20260421T134045Z
DTSTART;VALUE=DATE:20260425
DTEND;VALUE=DATE:20260428
SUMMARY:2026-PA MAWA Northern Region Tournament
LOCATION:Bloomsburg Fairgrounds, 980 West Main Street, Bloomsburg, PA, 17815
DESCRIPTION:View full event details: https://wrestlingtournaments.org/view.cfm?ID=107047
Contact: Tom Williams 570-690-1631 tnjwilly@aol.com
URL;VALUE=URI:https://wrestlingtournaments.org/view.cfm?ID=107047
END:VEVENT
END:VCALENDAR