BEGIN:VCALENDAR
VERSION:2.0
PRODID:-//ExhibitionMatches.com//NONSGML v1.0//EN
BEGIN:VEVENT
UID=F065117D-DE7C-2B79-FDF11A13C60A97F3
DTSTAMP=20260421T150308Z
DTSTART;VALUE=DATE:20260425
DTEND;VALUE=DATE:20260426
SUMMARY:2026 Bristol Brawl [CT]
LOCATION:Boys &amp; Girls Club of Bristol, 255 West Street, Bristol, CT
DESCRIPTION:View full event details: https://wrestlingtournaments.org/view.cfm?ID=107046
Contact: Bryant Lishness 860-402-0346
URL;VALUE=URI:https://wrestlingtournaments.org/view.cfm?ID=107046
END:VEVENT
END:VCALENDAR