BEGIN:VCALENDAR
VERSION:2.0
PRODID:-//ExhibitionMatches.com//NONSGML v1.0//EN
BEGIN:VEVENT
UID=13A96973-BDDC-278C-36BC69D6599D4F86
DTSTAMP=20260422T072917Z
DTSTART;VALUE=DATE:20260605
DTEND;VALUE=DATE:20260609
SUMMARY:Team NC 16U Men's National Team Camp
LOCATION:Garder-Webb University, 110 South Main Street, Boiling Springs, NC, 28017
DESCRIPTION:View full event details: https://wrestlingtournaments.org/view.cfm?ID=107045
Contact: Willie Hilton delliott@gardner-webb.edu
URL;VALUE=URI:https://wrestlingtournaments.org/view.cfm?ID=107045
END:VEVENT
END:VCALENDAR