BEGIN:VCALENDAR
VERSION:2.0
PRODID:-//ExhibitionMatches.com//NONSGML v1.0//EN
BEGIN:VEVENT
UID=10376740-DA86-F167-A19CFBC116104CC6
DTSTAMP=20260422T055256Z
DTSTART;VALUE=DATE:20260604
DTEND;VALUE=DATE:20260608
SUMMARY:Team NC 14U Boys National Team Camp
LOCATION:UNC Pembroke, 1 University Drive, Pembroke, NC, 28372
DESCRIPTION:View full event details: https://wrestlingtournaments.org/view.cfm?ID=107044
Contact: Geoffrey McIntosh watler.saunders@robeson.k12.nc.us
URL;VALUE=URI:https://wrestlingtournaments.org/view.cfm?ID=107044
END:VEVENT
END:VCALENDAR