BEGIN:VCALENDAR
VERSION:2.0
PRODID:-//ExhibitionMatches.com//NONSGML v1.0//EN
BEGIN:VEVENT
UID=14068B7E-9FF1-A53D-2A0891D5CBB3AA07
DTSTAMP=20260422T073927Z
DTSTART;VALUE=DATE:20260604
DTEND;VALUE=DATE:20260607
SUMMARY:14 National Dual Team Camp
LOCATION:Springfield Chestnut Hill Academy, 500 West Willow Grove Ave., Philadelphia, PA, 19118
DESCRIPTION:View full event details: https://wrestlingtournaments.org/view.cfm?ID=107043
Contact: Joe Stabilito Sr. joe.stab@gmail.com
URL;VALUE=URI:https://wrestlingtournaments.org/view.cfm?ID=107043
END:VEVENT
END:VCALENDAR