BEGIN:VCALENDAR
VERSION:2.0
PRODID:-//ExhibitionMatches.com//NONSGML v1.0//EN
BEGIN:VEVENT
UID=10213A16-FDD7-100D-D93F9C67BFE68877
DTSTAMP=20260422T055031Z
DTSTART;VALUE=DATE:20260601
DTEND;VALUE=DATE:20260602
SUMMARY:NMAA Girls Seeding*
LOCATION:New Mexico Activities Association, 6600 Palomas Avenue Northeast, Albuquerque, NM, 87109
DESCRIPTION:View full event details: https://wrestlingtournaments.org/view.cfm?ID=107041

URL;VALUE=URI:https://wrestlingtournaments.org/view.cfm?ID=107041
END:VEVENT
END:VCALENDAR