BEGIN:VCALENDAR
VERSION:2.0
PRODID:-//ExhibitionMatches.com//NONSGML v1.0//EN
BEGIN:VEVENT
UID=13E71719-D67D-1323-5C020C5C85B1FBFF
DTSTAMP=20260422T073601Z
DTSTART;VALUE=DATE:20260601
DTEND;VALUE=DATE:20260602
SUMMARY:NMAA Boys Seeding*
LOCATION:New Mexico Activities Association, 6600 Palomas Avenue Northeast, Albuquerque, NM, 87109
DESCRIPTION:View full event details: https://wrestlingtournaments.org/view.cfm?ID=107040

URL;VALUE=URI:https://wrestlingtournaments.org/view.cfm?ID=107040
END:VEVENT
END:VCALENDAR