BEGIN:VCALENDAR
VERSION:2.0
PRODID:-//ExhibitionMatches.com//NONSGML v1.0//EN
BEGIN:VEVENT
UID=10441E47-BDB7-15FA-40FE5CFB986B6B4D
DTSTAMP=20260422T055420Z
DTSTART;VALUE=DATE:20260601
DTEND;VALUE=DATE:20260606
SUMMARY:Takedown Day Camp
LOCATION:Nebraska Wesleyan University, 5000 Saint Paul Avenue, Lincoln, NE, 68504
DESCRIPTION:View full event details: https://wrestlingtournaments.org/view.cfm?ID=107039

URL;VALUE=URI:https://wrestlingtournaments.org/view.cfm?ID=107039
END:VEVENT
END:VCALENDAR