BEGIN:VCALENDAR
VERSION:2.0
PRODID:-//ExhibitionMatches.com//NONSGML v1.0//EN
BEGIN:VEVENT
UID=102C71F7-D808-FBE9-5EBB842A6275A1E4
DTSTAMP=20260422T055144Z
DTSTART;VALUE=DATE:20260601
DTEND;VALUE=DATE:20260606
SUMMARY:Rough Rider Intensive Wrestling Camp
LOCATION:Bismarck State College, 1601 Edwards Ave, Bismarck, ND, 58601
DESCRIPTION:View full event details: https://wrestlingtournaments.org/view.cfm?ID=107038
Contact: Troy Steiner steinertroy1!@gmail.com
URL;VALUE=URI:https://wrestlingtournaments.org/view.cfm?ID=107038
END:VEVENT
END:VCALENDAR