BEGIN:VCALENDAR
VERSION:2.0
PRODID:-//ExhibitionMatches.com//NONSGML v1.0//EN
BEGIN:VEVENT
UID=1058A439-E109-509B-D020F24C50F1BAA6
DTSTAMP=20260422T055634Z
DTSTART;VALUE=DATE:20260531
DTEND;VALUE=DATE:20260601
SUMMARY:RIWA One Shot FreCo Tournament 2026
LOCATION:Burrillville High School, 425 East Avenue, Burrillville, RI
DESCRIPTION:View full event details: https://wrestlingtournaments.org/view.cfm?ID=107037
Contact: Geoffrey Poirier burrillvillelightning@gmail.com
URL;VALUE=URI:https://wrestlingtournaments.org/view.cfm?ID=107037
END:VEVENT
END:VCALENDAR