BEGIN:VCALENDAR
VERSION:2.0
PRODID:-//ExhibitionMatches.com//NONSGML v1.0//EN
BEGIN:VEVENT
UID=101FD5A9-FD9F-6281-0BBB7CC27A2EFC50
DTSTAMP=20260422T055022Z
DTSTART;VALUE=DATE:20260531
DTEND;VALUE=DATE:20260601
SUMMARY:DELETE - Kauai Championship 2026
LOCATION:KauaÊ»i High School, 3577 Lala Road, Lihue, HI, 96766
DESCRIPTION:View full event details: https://wrestlingtournaments.org/view.cfm?ID=107036

URL;VALUE=URI:https://wrestlingtournaments.org/view.cfm?ID=107036
END:VEVENT
END:VCALENDAR