BEGIN:VCALENDAR
VERSION:2.0
PRODID:-//ExhibitionMatches.com//NONSGML v1.0//EN
BEGIN:VEVENT
UID=1038DBFD-B43B-0BA5-91B25C355FB5B655
DTSTAMP=20260422T055306Z
DTSTART;VALUE=DATE:20260531
DTEND;VALUE=DATE:20260601
SUMMARY:Escape The Jungle Freestyle
LOCATION:Kalahari Resorts and Convention center, 250 Kalahari Blvd. Pocono Manor, Pocono manor, PA, 18349
DESCRIPTION:View full event details: https://wrestlingtournaments.org/view.cfm?ID=107034
Contact: Lee Benjamin PrideWrestlingEvents@gmail.com
URL;VALUE=URI:https://wrestlingtournaments.org/view.cfm?ID=107034
END:VEVENT
END:VCALENDAR