BEGIN:VCALENDAR
VERSION:2.0
PRODID:-//ExhibitionMatches.com//NONSGML v1.0//EN
BEGIN:VEVENT
UID=101BE489-F2B2-D6D2-47F7A6A9E6E8FC1F
DTSTAMP=20260422T054956Z
DTSTART;VALUE=DATE:20260531
DTEND;VALUE=DATE:20260601
SUMMARY:Green Mountain Freestyle and Greco Classic
LOCATION:Norwich University, 24 ID White Ave, Northfield, VT
DESCRIPTION:View full event details: https://wrestlingtournaments.org/view.cfm?ID=107033
Contact: Zach Allen Vermontusawrestling@gmail.com
URL;VALUE=URI:https://wrestlingtournaments.org/view.cfm?ID=107033
END:VEVENT
END:VCALENDAR