BEGIN:VCALENDAR
VERSION:2.0
PRODID:-//ExhibitionMatches.com//NONSGML v1.0//EN
BEGIN:VEVENT
UID=13B61D30-EE3F-08C0-7267FAB6DB198F26
DTSTAMP=20260422T073040Z
DTSTART;VALUE=DATE:20260531
DTEND;VALUE=DATE:20260601
SUMMARY:Wolves Wrestling Summer Slam Showdown
LOCATION:Prairie Ridge High School, 6000 Dvorak Drive, Crystal Lake, IL, 60012
DESCRIPTION:View full event details: https://wrestlingtournaments.org/view.cfm?ID=107032
Contact: Joe Terhaar JTerhaar18@Yahoo.com
URL;VALUE=URI:https://wrestlingtournaments.org/view.cfm?ID=107032
END:VEVENT
END:VCALENDAR