BEGIN:VCALENDAR
VERSION:2.0
PRODID:-//ExhibitionMatches.com//NONSGML v1.0//EN
BEGIN:VEVENT
UID=10256B09-E863-9AD0-62052DE732EB7250
DTSTAMP=20260422T055058Z
DTSTART;VALUE=DATE:20260530
DTEND;VALUE=DATE:20260531
SUMMARY:2026 Kauai Championship
LOCATION:KauaÊ»i High School, 3577 Lala Road, Lihue, HI, 96766
DESCRIPTION:View full event details: https://wrestlingtournaments.org/view.cfm?ID=107029

URL;VALUE=URI:https://wrestlingtournaments.org/view.cfm?ID=107029
END:VEVENT
END:VCALENDAR